BEGIN:VCALENDAR
VERSION:2.0
PRODID:-//Norrtälje Naturcentrum @ Färsna Gård - ECPv6.15.20//NONSGML v1.0//EN
CALSCALE:GREGORIAN
METHOD:PUBLISH
X-ORIGINAL-URL:https://norrtaljenaturcentrum.se
X-WR-CALDESC:Händelser för Norrtälje Naturcentrum @ Färsna Gård
REFRESH-INTERVAL;VALUE=DURATION:PT1H
X-Robots-Tag:noindex
X-PUBLISHED-TTL:PT1H
BEGIN:VTIMEZONE
TZID:Europe/Stockholm
BEGIN:DAYLIGHT
TZOFFSETFROM:+0100
TZOFFSETTO:+0200
TZNAME:CEST
DTSTART:20250330T010000
END:DAYLIGHT
BEGIN:STANDARD
TZOFFSETFROM:+0200
TZOFFSETTO:+0100
TZNAME:CET
DTSTART:20251026T010000
END:STANDARD
BEGIN:DAYLIGHT
TZOFFSETFROM:+0100
TZOFFSETTO:+0200
TZNAME:CEST
DTSTART:20260329T010000
END:DAYLIGHT
BEGIN:STANDARD
TZOFFSETFROM:+0200
TZOFFSETTO:+0100
TZNAME:CET
DTSTART:20261025T010000
END:STANDARD
BEGIN:DAYLIGHT
TZOFFSETFROM:+0100
TZOFFSETTO:+0200
TZNAME:CEST
DTSTART:20270328T010000
END:DAYLIGHT
BEGIN:STANDARD
TZOFFSETFROM:+0200
TZOFFSETTO:+0100
TZNAME:CET
DTSTART:20271031T010000
END:STANDARD
END:VTIMEZONE
BEGIN:VEVENT
DTSTART;TZID=Europe/Stockholm:20260430T150000
DTEND;TZID=Europe/Stockholm:20260430T200000
DTSTAMP:20260425T135727
CREATED:20260424T100200Z
LAST-MODIFIED:20260424T100200Z
UID:6082-1777561200-1777579200@norrtaljenaturcentrum.se
SUMMARY:Valborg på Färsna gård
DESCRIPTION:Välkommen på familjevänligt Valborgs-firande på Färsna gård 30/4 kl 17 – 20 \nMed aktiviteter\, djur\, eldar och kafé \n kl 15 – grillarna tänds för grillning av eget \n kl 15 – kafeét öppnar – med elever och lärare från Skärgårdsgymnasiets bageri och konditori utbildning \n kl 17 – 4h-gården öppnar sina djur aktiviteter; fårklappning\, lamm-gos\, fiskdamm mm \n kl 17 försäljning av korv\, bröd och dryck \n kl 18.30 eldarna tänds på gården \n kl 20 – tack och godnatt- gården stänger
URL:https://norrtaljenaturcentrum.se/event/valborg-pa-farsna-gard/
LOCATION:Färsna Gård\, Färsna Gård\, Norrtälje\, Sverige
END:VEVENT
END:VCALENDAR