BEGIN:VCALENDAR
VERSION:2.0
PRODID:-//Norrtälje Naturcentrum @ Färsna Gård - ECPv6.15.20//NONSGML v1.0//EN
CALSCALE:GREGORIAN
METHOD:PUBLISH
X-ORIGINAL-URL:https://norrtaljenaturcentrum.se
X-WR-CALDESC:Händelser för Norrtälje Naturcentrum @ Färsna Gård
REFRESH-INTERVAL;VALUE=DURATION:PT1H
X-Robots-Tag:noindex
X-PUBLISHED-TTL:PT1H
BEGIN:VTIMEZONE
TZID:Europe/Stockholm
BEGIN:DAYLIGHT
TZOFFSETFROM:+0100
TZOFFSETTO:+0200
TZNAME:CEST
DTSTART:20250330T010000
END:DAYLIGHT
BEGIN:STANDARD
TZOFFSETFROM:+0200
TZOFFSETTO:+0100
TZNAME:CET
DTSTART:20251026T010000
END:STANDARD
BEGIN:DAYLIGHT
TZOFFSETFROM:+0100
TZOFFSETTO:+0200
TZNAME:CEST
DTSTART:20260329T010000
END:DAYLIGHT
BEGIN:STANDARD
TZOFFSETFROM:+0200
TZOFFSETTO:+0100
TZNAME:CET
DTSTART:20261025T010000
END:STANDARD
BEGIN:DAYLIGHT
TZOFFSETFROM:+0100
TZOFFSETTO:+0200
TZNAME:CEST
DTSTART:20270328T010000
END:DAYLIGHT
BEGIN:STANDARD
TZOFFSETFROM:+0200
TZOFFSETTO:+0100
TZNAME:CET
DTSTART:20271031T010000
END:STANDARD
END:VTIMEZONE
BEGIN:VEVENT
DTSTART;VALUE=DATE:20260619
DTEND;VALUE=DATE:20260620
DTSTAMP:20260426T062157
CREATED:20260424T102540Z
LAST-MODIFIED:20260424T102540Z
UID:6089-1781827200-1781913599@norrtaljenaturcentrum.se
SUMMARY:Midsommar på Färsna gård 19 juni
DESCRIPTION:Fira en traditionsenlig midsommar på vackra Färsna gård! \n\nMusik\, dans och lek runt midsommarstången\nÖppen gård med djur och härliga miljöer\nÅk hölass\n\n  \n  \n  \n 
URL:https://norrtaljenaturcentrum.se/event/midsommar-pa-farsna-gard-19-juni/
LOCATION:Färsna Gård\, Färsna Gård\, Norrtälje\, Sverige
END:VEVENT
END:VCALENDAR